BEGIN:VCALENDAR
VERSION:2.0
PRODID:-//Verein UntergRundgang Luzern - ECPv6.15.20//NONSGML v1.0//EN
CALSCALE:GREGORIAN
METHOD:PUBLISH
X-WR-CALNAME:Verein UntergRundgang Luzern
X-ORIGINAL-URL:https://untergrundgang.ch
X-WR-CALDESC:Veranstaltungen für Verein UntergRundgang Luzern
REFRESH-INTERVAL;VALUE=DURATION:PT1H
X-Robots-Tag:noindex
X-PUBLISHED-TTL:PT1H
BEGIN:VTIMEZONE
TZID:Europe/Zurich
BEGIN:DAYLIGHT
TZOFFSETFROM:+0100
TZOFFSETTO:+0200
TZNAME:CEST
DTSTART:20250330T010000
END:DAYLIGHT
BEGIN:STANDARD
TZOFFSETFROM:+0200
TZOFFSETTO:+0100
TZNAME:CET
DTSTART:20251026T010000
END:STANDARD
BEGIN:DAYLIGHT
TZOFFSETFROM:+0100
TZOFFSETTO:+0200
TZNAME:CEST
DTSTART:20260329T010000
END:DAYLIGHT
BEGIN:STANDARD
TZOFFSETFROM:+0200
TZOFFSETTO:+0100
TZNAME:CET
DTSTART:20261025T010000
END:STANDARD
BEGIN:DAYLIGHT
TZOFFSETFROM:+0100
TZOFFSETTO:+0200
TZNAME:CEST
DTSTART:20270328T010000
END:DAYLIGHT
BEGIN:STANDARD
TZOFFSETFROM:+0200
TZOFFSETTO:+0100
TZNAME:CET
DTSTART:20271031T010000
END:STANDARD
END:VTIMEZONE
BEGIN:VEVENT
DTSTART;TZID=Europe/Zurich:20260502T143000
DTEND;TZID=Europe/Zurich:20260502T163000
DTSTAMP:20260424T153435
CREATED:20260125T184929Z
LAST-MODIFIED:20260413T192044Z
UID:2380-1777732200-1777739400@untergrundgang.ch
SUMMARY:13 sagenhafte Geschichten
DESCRIPTION:Gaunerkönigin Clara Wendel\n\n\n\n \n\n\nDas Untergrundquartier war und ist vermeintlich vieles: Rue de Blamage\, Klein-Chicago und Wohnquartier mit zweifelhaftem Ruf. Dementsprechend gibt es hier sagenhafte Geschichten zu entdecken. Wir begegnen einem legendären Ausbrecherkönig\, dem magischen Wunderheiler Leonardo und Nachteulen\, die sich in der Baselstrasse vergnügen. 13 Geschichten – unglaublich\, legendär\, aus der Vergangenheit und aus der Gegenwart – weisen uns auf dem UntergRundgang aus dem Jahr 2013 den Weg durch den Untergrund und lassen diesen einmal mehr in einem neuen Licht erscheinen. \n\nSamstag\, 2. Mai 2026\, 14.30 Uhr\nWo: Pfistergasse 24\, Luzern (Vor Lokal des Museums)\nKosten: CHF 20.–; reduziert CHF 10 (Auszubildende und KulturLegi)
URL:https://untergrundgang.ch/oeffentlicher-rundgang/augenweiden-10-2-2-2/
LOCATION:Pfistergasse 24\, Luzern\, Pfistergasse 24\, Luzern\, 6003\, Switzerland
CATEGORIES:Öffentlicher Rundgang,schoen,start-links
ATTACH;FMTTYPE=image/jpeg:https://untergrundgang.ch/wp-content/uploads/2026/01/Sagenhaft_3zu1-scaled.jpg
END:VEVENT
BEGIN:VEVENT
DTSTART;TZID=Europe/Zurich:20260613T143000
DTEND;TZID=Europe/Zurich:20260613T163000
DTSTAMP:20260424T153435
CREATED:20260125T183514Z
LAST-MODIFIED:20260125T185130Z
UID:2367-1781361000-1781368200@untergrundgang.ch
SUMMARY:ObergRundgang
DESCRIPTION:Anlässlich des 150. Geburtstags des Quartiervereins Obergrund verliessen wir den Untergrund und steuerten den Festlichkeiten einen ObergRundgang bei.  \nWir starten beim Pilatusplatz und ziehen gemeinsam südwärts in die Allmend. Unterwegs setzen wir Schlaglichter auf einschneidende Veränderungen\, spannende Persönlichkeiten und (halb-)vergessene Geschichten\, die den Obergrund und seine Bewohner:innen prägten. \n\nSamstag\, 13. Juni 2026\, 14.30 Uhr\nWo: Pilatusplatz\, auf der «Schmiede-Brache» (Hinter Haltestelle des 1ers Richtung Kriens)\nKosten: CHF 20.–; reduziert CHF 10.– (Auszubildende und KulturLegi)
URL:https://untergrundgang.ch/oeffentlicher-rundgang/obergrundgang-2-2-2-3-2-2-2-2/
CATEGORIES:Öffentlicher Rundgang,start-links
ATTACH;FMTTYPE=image/jpeg:https://untergrundgang.ch/wp-content/uploads/2024/02/Moosmatt-Luzern-blau-obergrundgang-teaser.jpg
END:VEVENT
BEGIN:VEVENT
DTSTART;TZID=Europe/Zurich:20260620T143000
DTEND;TZID=Europe/Zurich:20260620T163000
DTSTAMP:20260424T153435
CREATED:20260125T183307Z
LAST-MODIFIED:20260125T185057Z
UID:2365-1781965800-1781973000@untergrundgang.ch
SUMMARY:Augenweiden
DESCRIPTION:Titelbild Augenweiden\n\n\n\nAugenweiden – Zwischen «schön wars» und «schön wärs» \n\n\nDas Untergrund-Quartier in Luzern\, oft als Schmuddelecke abgestempelt\, birgt Schönes und ganz schön Hässliches. Der Verein UntergRundgang und das Kunstduo solerluethi haben sich zusammengetan. Nicht nur\, um die versteckte Ästhetik im vermeintlich Hässlichen aufzuspüren. Es geht auch darum zu zeigen\, wie das gelebte soziale Miteinander das gesellschaftlich Schöne hervorbringt. Erzählungen von Menschen im Quartier\, ihre Fundstücke sowie sozialgeschichtliche Recherchen werden bei dieser ungewöhnlichen Expedition miteinander verknüpft. \nDie UntergRundgänger:innen und solerluethi bauen auf ihrer Entdeckungstour diverse Facetten zu einer Veranschaulichung des «Schönen» zusammen. Damit wollen sie sowohl der Geschichte des Quartiers als auch seinen Bewohner:innen ihre Reverenz erweisen. \n\nSamstag\, 20. Juni 2026\, 14.30 Uhr\nWo: Pfistergasse 24\, Luzern (Vor Lokal des Museums)\nKosten: CHF 20.–; reduziert CHF 10 (Auszubildende und KulturLegi)
URL:https://untergrundgang.ch/oeffentlicher-rundgang/augenweiden-10-2/
LOCATION:Pfistergasse 24\, Luzern\, Pfistergasse 24\, Luzern\, 6003\, Switzerland
CATEGORIES:Öffentlicher Rundgang,schoen
ATTACH;FMTTYPE=image/jpeg:https://untergrundgang.ch/wp-content/uploads/2025/01/U_Baselstrasse-24_Luzern-2000.jpg
END:VEVENT
BEGIN:VEVENT
DTSTART;TZID=Europe/Zurich:20260801T143000
DTEND;TZID=Europe/Zurich:20260801T163000
DTSTAMP:20260424T153435
CREATED:20260125T183720Z
LAST-MODIFIED:20260125T185036Z
UID:2372-1785594600-1785601800@untergrundgang.ch
SUMMARY:Fremd sein – heimisch werden
DESCRIPTION:Unser Beitrag zum «Tag der Heimat» ist der öffentliche Rundgang «Fremd sein – heimisch werden»\, den wir am 1. August 2026 ab 14.30 Uhr anbieten. \n\n\n\n \n\n\n\nTreffpunkt ist vor dem «Lokal» neben dem Museum Luzern (Haus Pfistergasse 24). \n\n\n\nKosten: Fr. 20.–/10.– (Auszubildende/KulturLegi)
URL:https://untergrundgang.ch/oeffentlicher-rundgang/fremd-sein-hemisch-werden-2-2-2-2/
LOCATION:Vor dem Historischen Museum\, Pfistergasse 24\, Luzern\, 6003\, Schweiz
CATEGORIES:Öffentlicher Rundgang,start-links
ATTACH;FMTTYPE=image/jpeg:https://untergrundgang.ch/wp-content/uploads/2021/09/rundgang3-web-fremder-leonardo-scaled.jpg
END:VEVENT
BEGIN:VEVENT
DTSTART;TZID=Europe/Zurich:20260912T143000
DTEND;TZID=Europe/Zurich:20260912T163000
DTSTAMP:20260424T153435
CREATED:20260125T183819Z
LAST-MODIFIED:20260125T183821Z
UID:2374-1789223400-1789230600@untergrundgang.ch
SUMMARY:Zeitensprünge und Grenzgänge
DESCRIPTION:Wir laufen vom Kreuzstutz bis in die Fluhmühle. \nDie Gegend dient bis heute als verkehrstechnische Manövriermasse\, sie ist und war aber auch ein Wohnort – im besten Fall auch eine «neue Heimat». Als GrenzgängerInnen wollen wir spazierend erfahrbar machen\, was durch die Gemeindefusion vor fünfzehn Jahren formal zusammengewachsen ist. Auf dem Weg in die Lindenstrasse begegnen uns zahlreiche Zeitzeugen – darunter auch eine tote Bärin und ein heissgeliebter Elefant. \n\nTreffpunkt: Kreuzstutz (bei der Kultursäule)\nKosten: CHF 20.– (CHF 10.– für Auszubildende und KulturLegi)
URL:https://untergrundgang.ch/oeffentlicher-rundgang/zeitenspruenge-und-grenzgaenge-2-2-2-2-2-2/
LOCATION:Treffpunkt bei der Kultursäule am Kreuzstutz\, Kreuzstutz\, Luzern\, 6003
CATEGORIES:Öffentlicher Rundgang,start-links
ATTACH;FMTTYPE=image/jpeg:https://untergrundgang.ch/wp-content/uploads/2022/02/rundgang7-mann-mit-baer-scaled.jpg
END:VEVENT
BEGIN:VEVENT
DTSTART;TZID=Europe/Zurich:20261017T143000
DTEND;TZID=Europe/Zurich:20261017T163000
DTSTAMP:20260424T153435
CREATED:20260125T183936Z
LAST-MODIFIED:20260125T183939Z
UID:2376-1792247400-1792254600@untergrundgang.ch
SUMMARY:Spezialrundgang zur Reformation
DESCRIPTION:«O Lucerna wie bistu so gar verstopft»\n\n\n\n\n\n\n\n\nTreffpunkt: Matthäuskirche (Seeseite)\nKosten: Fr. 15.–/10.–
URL:https://untergrundgang.ch/oeffentlicher-rundgang/spezialrundgang-zur-reformation-3-2-2-2/
LOCATION:Matthäuskirche Luzern\, Hertensteinstrasse 30\, Luzern\, 6004\, Switzerland
CATEGORIES:Öffentlicher Rundgang,start-links
ATTACH;FMTTYPE=image/jpeg:https://untergrundgang.ch/wp-content/uploads/2021/09/Holbein_Neues-Jerusalem-kleiner.jpg
END:VEVENT
END:VCALENDAR